BEGIN:VCALENDAR
VERSION:2.0
PRODID:-//Onion World - ECPv6.15.20//NONSGML v1.0//EN
CALSCALE:GREGORIAN
METHOD:PUBLISH
X-ORIGINAL-URL:https://onionworld.net
X-WR-CALDESC:Events for Onion World
REFRESH-INTERVAL;VALUE=DURATION:PT1H
X-Robots-Tag:noindex
X-PUBLISHED-TTL:PT1H
BEGIN:VTIMEZONE
TZID:America/Denver
BEGIN:DAYLIGHT
TZOFFSETFROM:-0700
TZOFFSETTO:-0600
TZNAME:MDT
DTSTART:20230312T090000
END:DAYLIGHT
BEGIN:STANDARD
TZOFFSETFROM:-0600
TZOFFSETTO:-0700
TZNAME:MST
DTSTART:20231105T080000
END:STANDARD
BEGIN:DAYLIGHT
TZOFFSETFROM:-0700
TZOFFSETTO:-0600
TZNAME:MDT
DTSTART:20240310T090000
END:DAYLIGHT
BEGIN:STANDARD
TZOFFSETFROM:-0600
TZOFFSETTO:-0700
TZNAME:MST
DTSTART:20241103T080000
END:STANDARD
BEGIN:DAYLIGHT
TZOFFSETFROM:-0700
TZOFFSETTO:-0600
TZNAME:MDT
DTSTART:20250309T090000
END:DAYLIGHT
BEGIN:STANDARD
TZOFFSETFROM:-0600
TZOFFSETTO:-0700
TZNAME:MST
DTSTART:20251102T080000
END:STANDARD
END:VTIMEZONE
BEGIN:VEVENT
DTSTART;TZID=America/Denver:20240828T090000
DTEND;TZID=America/Denver:20240828T130000
DTSTAMP:20260422T074118
CREATED:20240703T175602Z
LAST-MODIFIED:20240816T144429Z
UID:8838-1724835600-1724850000@onionworld.net
SUMMARY:Malheur Experiment Station Onion Variety Day
DESCRIPTION:This is a chance for growers\, industry\, and researchers to examine a replicate of the onion variety trial where the onions are lifted and laid out in half of the plot and the other half of the onion plot is still growing.  You will be able to examine each of the 50 varieties of onions in the trial.  There will be a shade canopy setup with water and refreshments in the field. \nThe Onion Variety Day includes a hosted lunch at noon. The event is free and open to the public. Please RSVP to ensure proper catering for lunch. \nJan Jones\, (541) 889-2174 or janet.jones@oregonstate.edu
URL:https://onionworld.net/event/malheur-experiment-station-onion-variety-day-4/
LOCATION:Malheur Experiment Station\, 595 Onion Ave\, Ontario\, OR\, 97914\, United States
ORGANIZER;CN="Oregon State":MAILTO:janet.jones@oregonstate.edu
END:VEVENT
END:VCALENDAR