BEGIN:VCALENDAR
VERSION:2.0
PRODID:-//Onion World - ECPv6.15.20//NONSGML v1.0//EN
CALSCALE:GREGORIAN
METHOD:PUBLISH
X-ORIGINAL-URL:https://onionworld.net
X-WR-CALDESC:Events for Onion World
REFRESH-INTERVAL;VALUE=DURATION:PT1H
X-Robots-Tag:noindex
X-PUBLISHED-TTL:PT1H
BEGIN:VTIMEZONE
TZID:America/Denver
BEGIN:DAYLIGHT
TZOFFSETFROM:-0700
TZOFFSETTO:-0600
TZNAME:MDT
DTSTART:20240310T090000
END:DAYLIGHT
BEGIN:STANDARD
TZOFFSETFROM:-0600
TZOFFSETTO:-0700
TZNAME:MST
DTSTART:20241103T080000
END:STANDARD
BEGIN:DAYLIGHT
TZOFFSETFROM:-0700
TZOFFSETTO:-0600
TZNAME:MDT
DTSTART:20250309T090000
END:DAYLIGHT
BEGIN:STANDARD
TZOFFSETFROM:-0600
TZOFFSETTO:-0700
TZNAME:MST
DTSTART:20251102T080000
END:STANDARD
BEGIN:DAYLIGHT
TZOFFSETFROM:-0700
TZOFFSETTO:-0600
TZNAME:MDT
DTSTART:20260308T090000
END:DAYLIGHT
BEGIN:STANDARD
TZOFFSETFROM:-0600
TZOFFSETTO:-0700
TZNAME:MST
DTSTART:20261101T080000
END:STANDARD
END:VTIMEZONE
BEGIN:VEVENT
DTSTART;TZID=America/Denver:20251105T130000
DTEND;TZID=America/Denver:20251106T120000
DTSTAMP:20260422T060202
CREATED:20250826T194541Z
LAST-MODIFIED:20250826T194541Z
UID:9986-1762347600-1762430400@onionworld.net
SUMMARY:The Idaho Association of Plant Protection 2025 Annual Meeting
DESCRIPTION:The conference is open to anyone and will cover all aspects of plant protection including entomology\, nematology\, weed science\, and plant pathology. All interested in crop protection are invited to attend.\n\nRegistration begins at noon on Wednesday\, November 5 and the program will begin at 1:00 p.m. Registration costs $30.00 ($20.00 for students) and can be made by check\, cash\, or credit card at the door. Payment can be made prior to the meeting by making arrangements with Jeff Miller (jeff@millerresearch.com). All credit card payments will be assessed a 4% processing fee.\n\nCertified Crop Advisor (CCA) and State Pesticide Recertification credits (ISDA) will be available. We anticipate 5-6 credits for those attending both days. See the attached flier for more information.
URL:https://onionworld.net/event/the-idaho-association-of-plant-protection-2025-annual-meeting/
LOCATION:The Herrett Center\, The Herrett Center for Arts & Science\, 315 Falls Avenue\, Twin Falls\, ID\, 83301\, United States
END:VEVENT
END:VCALENDAR