BEGIN:VCALENDAR
VERSION:2.0
PRODID:-//Onion World - ECPv6.15.20//NONSGML v1.0//EN
CALSCALE:GREGORIAN
METHOD:PUBLISH
X-WR-CALNAME:Onion World
X-ORIGINAL-URL:https://onionworld.net
X-WR-CALDESC:Events for Onion World
REFRESH-INTERVAL;VALUE=DURATION:PT1H
X-Robots-Tag:noindex
X-PUBLISHED-TTL:PT1H
BEGIN:VTIMEZONE
TZID:America/Denver
BEGIN:DAYLIGHT
TZOFFSETFROM:-0700
TZOFFSETTO:-0600
TZNAME:MDT
DTSTART:20230312T090000
END:DAYLIGHT
BEGIN:STANDARD
TZOFFSETFROM:-0600
TZOFFSETTO:-0700
TZNAME:MST
DTSTART:20231105T080000
END:STANDARD
BEGIN:DAYLIGHT
TZOFFSETFROM:-0700
TZOFFSETTO:-0600
TZNAME:MDT
DTSTART:20240310T090000
END:DAYLIGHT
BEGIN:STANDARD
TZOFFSETFROM:-0600
TZOFFSETTO:-0700
TZNAME:MST
DTSTART:20241103T080000
END:STANDARD
BEGIN:DAYLIGHT
TZOFFSETFROM:-0700
TZOFFSETTO:-0600
TZNAME:MDT
DTSTART:20250309T090000
END:DAYLIGHT
BEGIN:STANDARD
TZOFFSETFROM:-0600
TZOFFSETTO:-0700
TZNAME:MST
DTSTART:20251102T080000
END:STANDARD
END:VTIMEZONE
BEGIN:VEVENT
DTSTART;TZID=America/Denver:20241017T080000
DTEND;TZID=America/Denver:20241019T120000
DTSTAMP:20260422T073913
CREATED:20240703T181321Z
LAST-MODIFIED:20240703T181321Z
UID:8843-1729152000-1729339200@onionworld.net
SUMMARY:Global Produce and Floral Show
DESCRIPTION:www.freshproduce.com
URL:https://onionworld.net/event/global-produce-and-floral-show/
LOCATION:Georgia World Congress Center\, 285 Andrew Young International Blvd NW\, Atlanta\, GA\, 30313\, United States
END:VEVENT
END:VCALENDAR